BEGIN:VCALENDAR
VERSION:2.0
PRODID:-//hacksw/handcal//NONSGML v1.0//EN
CALSCALE:GREGORIAN
BEGIN:VEVENT
DTSTART:20220426T200000Z
DTEND:20220426T230000Z
SUMMARY:Advisory Board Ad Hoc Committee Meeting
DTSTAMP:20260420T210333Z
UID:69e694a509a61
END:VEVENT
END:VCALENDAR