BEGIN:VCALENDAR
VERSION:2.0
PRODID:-//hacksw/handcal//NONSGML v1.0//EN
CALSCALE:GREGORIAN
BEGIN:VEVENT
DTSTART:20221216T203000Z
DTEND:20221217T010000Z
SUMMARY:Advisory Board Governance Ad Hoc Committee Meeting
DTSTAMP:20260420T210359Z
UID:69e694bf49412
END:VEVENT
END:VCALENDAR