BEGIN:VCALENDAR
VERSION:2.0
PRODID:-//hacksw/handcal//NONSGML v1.0//EN
CALSCALE:GREGORIAN
BEGIN:VEVENT
DTSTART:20230623T200000Z
DTEND:20230623T220000Z
SUMMARY:Advisory Board Selection Ad Hoc Committee
DTSTAMP:20260420T210111Z
UID:69e69417e7477
END:VEVENT
END:VCALENDAR