BEGIN:VCALENDAR
VERSION:2.0
PRODID:-//hacksw/handcal//NONSGML v1.0//EN
CALSCALE:GREGORIAN
BEGIN:VEVENT
DTSTART:20241016T170000Z
DTEND:20241016T223000Z
SUMMARY:Community Engagement Advisory Board Meeting
DTSTAMP:20260425T192810Z
UID:69ed15ca2f05e
END:VEVENT
END:VCALENDAR