BEGIN:VCALENDAR
VERSION:2.0
PRODID:-//hacksw/handcal//NONSGML v1.0//EN
CALSCALE:GREGORIAN
BEGIN:VEVENT
DTSTART:20261014T170000Z
DTEND:20261014T210000Z
SUMMARY:Community Engagement Advisory Board Meeting
DTSTAMP:20260425T192708Z
UID:69ed158c6117d
END:VEVENT
END:VCALENDAR