BEGIN:VCALENDAR
VERSION:2.0
PRODID:-//hacksw/handcal//NONSGML v1.0//EN
CALSCALE:GREGORIAN
BEGIN:VEVENT
DTSTART:20240731T190000Z
DTEND:20240731T210000Z
SUMMARY:Data and Tools Ad Hoc Committee for Proposal Prioritization Meeting
DTSTAMP:20260425T192903Z
UID:69ed15ff40564
END:VEVENT
END:VCALENDAR