BEGIN:VCALENDAR
VERSION:2.0
PRODID:-//hacksw/handcal//NONSGML v1.0//EN
CALSCALE:GREGORIAN
BEGIN:VEVENT
DTSTART:20250319T170000Z
DTEND:20250319T223000Z
SUMMARY:Data and Tools Advisory Board Meeting
DTSTAMP:20260425T192206Z
UID:69ed145e0272d
END:VEVENT
END:VCALENDAR