BEGIN:VCALENDAR
VERSION:2.0
PRODID:-//hacksw/handcal//NONSGML v1.0//EN
CALSCALE:GREGORIAN
BEGIN:VEVENT
DTSTART:20240215T220000Z
DTEND:20240215T233000Z
SUMMARY:eTranscript California Task Force Meeting
DTSTAMP:20260422T101453Z
UID:69e89f9d33be2
END:VEVENT
END:VCALENDAR