BEGIN:VCALENDAR
VERSION:2.0
PRODID:-//hacksw/handcal//NONSGML v1.0//EN
CALSCALE:GREGORIAN
BEGIN:VEVENT
DTSTART:20220711T163000Z
DTEND:20220711T193000Z
SUMMARY:Executive Director Review Process Ad Hoc Committee Meeting
DTSTAMP:20260425T184543Z
UID:69ed0bd794d80
END:VEVENT
END:VCALENDAR