BEGIN:VCALENDAR
VERSION:2.0
PRODID:-//hacksw/handcal//NONSGML v1.0//EN
CALSCALE:GREGORIAN
BEGIN:VEVENT
DTSTART:20230119T233000Z
DTEND:20230120T010000Z
SUMMARY:Governance Manual Ad Hoc Committee Meeting
DTSTAMP:20260425T192433Z
UID:69ed14f14cd3b
END:VEVENT
END:VCALENDAR