BEGIN:VCALENDAR
VERSION:2.0
PRODID:-//hacksw/handcal//NONSGML v1.0//EN
CALSCALE:GREGORIAN
BEGIN:VEVENT
DTSTART:20241206T200000Z
DTEND:20241206T220000Z
SUMMARY:Governance Manual Review Committee Meeting
DTSTAMP:20260425T192729Z
UID:69ed15a1d6e1f
END:VEVENT
END:VCALENDAR