BEGIN:VCALENDAR
VERSION:2.0
PRODID:-//hacksw/handcal//NONSGML v1.0//EN
CALSCALE:GREGORIAN
BEGIN:VEVENT
DTSTART:20231211T201500Z
DTEND:20231211T224500Z
SUMMARY:Governance Manual Review Committee Meeting
DTSTAMP:20260422T124638Z
UID:69e8c32e9c781
END:VEVENT
END:VCALENDAR