BEGIN:VCALENDAR
VERSION:2.0
PRODID:-//hacksw/handcal//NONSGML v1.0//EN
CALSCALE:GREGORIAN
BEGIN:VEVENT
DTSTART:20260225T173000Z
DTEND:20260226T003000Z
SUMMARY:Governing Board Meeting
DTSTAMP:20260425T192156Z
UID:69ed14544d94c
END:VEVENT
END:VCALENDAR