BEGIN:VCALENDAR
VERSION:2.0
PRODID:-//hacksw/handcal//NONSGML v1.0//EN
CALSCALE:GREGORIAN
BEGIN:VEVENT
DTSTART:20260520T163000Z
DTEND:20260520T233000Z
SUMMARY:Governing Board Meeting
DTSTAMP:20260425T031024Z
UID:69ec30a0a848b
END:VEVENT
END:VCALENDAR