BEGIN:VCALENDAR
VERSION:2.0
PRODID:-//hacksw/handcal//NONSGML v1.0//EN
CALSCALE:GREGORIAN
BEGIN:VEVENT
DTSTART:20211130T173000Z
DTEND:20211201T010000Z
SUMMARY:Governing Board Meeting
DTSTAMP:20260421T101827Z
UID:69e74ef36a417
END:VEVENT
END:VCALENDAR