BEGIN:VCALENDAR
VERSION:2.0
PRODID:-//hacksw/handcal//NONSGML v1.0//EN
CALSCALE:GREGORIAN
BEGIN:VEVENT
DTSTART:20240814T163000Z
DTEND:20240814T233000Z
SUMMARY:Governing Board Meeting
DTSTAMP:20260420T210947Z
UID:69e6961badd9a
END:VEVENT
END:VCALENDAR