BEGIN:VCALENDAR
VERSION:2.0
PRODID:-//hacksw/handcal//NONSGML v1.0//EN
CALSCALE:GREGORIAN
BEGIN:VEVENT
DTSTART:20220810T163000Z
DTEND:20180811T000000Z
SUMMARY:Governing Board Meeting
DTSTAMP:20260420T211739Z
UID:69e697f315c89
END:VEVENT
END:VCALENDAR