BEGIN:VCALENDAR
VERSION:2.0
PRODID:-//hacksw/handcal//NONSGML v1.0//EN
CALSCALE:GREGORIAN
BEGIN:VEVENT
DTSTART:20231101T163000Z
DTEND:20231101T223000Z
SUMMARY:Governing Board Meeting
DTSTAMP:20260420T211020Z
UID:69e6963c05388
END:VEVENT
END:VCALENDAR