BEGIN:VCALENDAR
VERSION:2.0
PRODID:-//hacksw/handcal//NONSGML v1.0//EN
CALSCALE:GREGORIAN
BEGIN:VEVENT
DTSTART:20251106T200000Z
DTEND:20251106T210000Z
SUMMARY:Lesson Plan Challenge Informational Session
DTSTAMP:20260420T210614Z
UID:69e69546148e9
END:VEVENT
END:VCALENDAR